BEGIN:VCALENDAR
VERSION:2.0
PRODID:-//BRASSSKA - ECPv6.15.20//NONSGML v1.0//EN
CALSCALE:GREGORIAN
METHOD:PUBLISH
X-WR-CALNAME:BRASSSKA
X-ORIGINAL-URL:http://brassska.de
X-WR-CALDESC:Veranstaltungen für BRASSSKA
REFRESH-INTERVAL;VALUE=DURATION:PT1H
X-Robots-Tag:noindex
X-PUBLISHED-TTL:PT1H
BEGIN:VTIMEZONE
TZID:Europe/Helsinki
BEGIN:DAYLIGHT
TZOFFSETFROM:+0200
TZOFFSETTO:+0300
TZNAME:EEST
DTSTART:20220327T010000
END:DAYLIGHT
BEGIN:STANDARD
TZOFFSETFROM:+0300
TZOFFSETTO:+0200
TZNAME:EET
DTSTART:20221030T010000
END:STANDARD
BEGIN:DAYLIGHT
TZOFFSETFROM:+0200
TZOFFSETTO:+0300
TZNAME:EEST
DTSTART:20230326T010000
END:DAYLIGHT
BEGIN:STANDARD
TZOFFSETFROM:+0300
TZOFFSETTO:+0200
TZNAME:EET
DTSTART:20231029T010000
END:STANDARD
BEGIN:DAYLIGHT
TZOFFSETFROM:+0200
TZOFFSETTO:+0300
TZNAME:EEST
DTSTART:20240331T010000
END:DAYLIGHT
BEGIN:STANDARD
TZOFFSETFROM:+0300
TZOFFSETTO:+0200
TZNAME:EET
DTSTART:20241027T010000
END:STANDARD
END:VTIMEZONE
BEGIN:VEVENT
DTSTART;TZID=Europe/Helsinki:20230602T200000
DTEND;TZID=Europe/Helsinki:20230602T220000
DTSTAMP:20260419T210437
CREATED:20230407T113340Z
LAST-MODIFIED:20230519T141244Z
UID:276-1685736000-1685743200@brassska.de
SUMMARY:AnalougueNow! Opening Party
DESCRIPTION:Analogue Now! \n02. – 04. June 2023! Biennial for contemporary analogue photography.\nby CLICK e.V.
URL:http://brassska.de/event/tba/
LOCATION:Genezareth Kirche\, Herrfurthplatz 14\, Berlin Neukölln\, Berlin\, 12049
END:VEVENT
END:VCALENDAR