BEGIN:VCALENDAR
VERSION:2.0
PRODID:-//BRASSSKA - ECPv6.15.20//NONSGML v1.0//EN
CALSCALE:GREGORIAN
METHOD:PUBLISH
X-ORIGINAL-URL:http://brassska.de
X-WR-CALDESC:Veranstaltungen für BRASSSKA
REFRESH-INTERVAL;VALUE=DURATION:PT1H
X-Robots-Tag:noindex
X-PUBLISHED-TTL:PT1H
BEGIN:VTIMEZONE
TZID:Europe/Helsinki
BEGIN:DAYLIGHT
TZOFFSETFROM:+0200
TZOFFSETTO:+0300
TZNAME:EEST
DTSTART:20220327T010000
END:DAYLIGHT
BEGIN:STANDARD
TZOFFSETFROM:+0300
TZOFFSETTO:+0200
TZNAME:EET
DTSTART:20221030T010000
END:STANDARD
BEGIN:DAYLIGHT
TZOFFSETFROM:+0200
TZOFFSETTO:+0300
TZNAME:EEST
DTSTART:20230326T010000
END:DAYLIGHT
BEGIN:STANDARD
TZOFFSETFROM:+0300
TZOFFSETTO:+0200
TZNAME:EET
DTSTART:20231029T010000
END:STANDARD
BEGIN:DAYLIGHT
TZOFFSETFROM:+0200
TZOFFSETTO:+0300
TZNAME:EEST
DTSTART:20240331T010000
END:DAYLIGHT
BEGIN:STANDARD
TZOFFSETFROM:+0300
TZOFFSETTO:+0200
TZNAME:EET
DTSTART:20241027T010000
END:STANDARD
END:VTIMEZONE
BEGIN:VEVENT
DTSTART;TZID=Europe/Helsinki:20230506T153000
DTEND;TZID=Europe/Helsinki:20230506T163000
DTSTAMP:20260419T225025
CREATED:20230330T093925Z
LAST-MODIFIED:20230330T093925Z
UID:249-1683387000-1683390600@brassska.de
SUMMARY:Fest für Demokratie und Toleranz
DESCRIPTION:
URL:http://brassska.de/event/fest-fuer-demokratie-und-toleranz/
LOCATION:Michael Brückner Platz\, Berlin\, Berlin\, 12439\, Deutschland
END:VEVENT
END:VCALENDAR